BEGIN:VCALENDAR
VERSION:2.0
PRODID:-//ChamberMaster//Event Calendar 2.0//EN
METHOD:PUBLISH
X-PUBLISHED-TTL:P3D
REFRESH-INTERVAL:P3D
CALSCALE:GREGORIAN
BEGIN:VEVENT
DTSTART:20260506T183000Z
DTEND:20260506T203000Z
X-MICROSOFT-CDO-ALLDAYEVENT:FALSE
SUMMARY:Marketing Program May
DESCRIPTION:IT'S SMALL BUSINESS WEEK! Join us on WEDNESDAY\, May 6 from 1:30 pm - 3:30 pm at the library as we learn about Your AI Marketing Assistant: Simple Workflows to Save Hours and Stay Consistent. Presented by Carolyn Cummins | Santosha Solutions | SCORE volunteer \n\n\n\nAI doesn't have to be complicated to be powerful. In this practical session\, Carolyn Cummins shows you how to put AI to work as your behind-the-scenes marketing assistant. Instead of chasing hacks or one-off prompts\, you'll learn repeatable workflows that help you save time\, reduce stress\, and keep your marketing strategy on track.\n\nDiscover how to:\n\n  Map out content pillars and campaigns with AI so you never wonder what to post next.\n\n  Create a weekly or monthly marketing plan in minutes\, not hours.\n\n  Use AI to organize customer insights into clear messaging themes.\n\n  Build reusable checklists and templates that simplify marketing tasks.\n\n  Streamline your process so you spend more time connecting with clients and less time stuck in the weeds.\n\nYou'll walk away with a simple framework and ready-to-use workflows you can replicate immediately\, making AI part of your business routine in a way that feels easy\, strategic\, and sustainable.\n\n\n\n\n\nOur normal Marketing Program will resume on June 1 at 1:00 pm at the Chamber.
X-ALT-DESC;FMTTYPE=text/html:<p><span style="color:#000000\;"><strong style="font-family: arial\; font-size: 18px\;">IT&#39\;S <a href="https://www.eventbrite.com/e/2026-georgetown-small-business-week-tickets-1982440914140?utm-campaign=social&amp\;utm-content=attendeeshare&amp\;utm-medium=discovery&amp\;utm-term=listing&amp\;utm-source=cp&amp\;aff=ebdsshcopyurl" target="_blank">SMALL BUSINESS WEEK</a>!</strong><span style="font-family: arial\; font-size: 18px\;">&nbsp\;Join us on WEDNESDAY\, May 6 from 1:30 pm - 3:30 pm at the library as we learn about Your AI Marketing Assistant: Simple Workflows to Save Hours and Stay Consistent. Presented by Carolyn Cummins | Santosha Solutions |&nbsp\;SCORE volunteer&nbsp\;</span><br style="font-family: arial\; font-size: 18px\;" />\n<br style="font-family: arial\; font-size: 18px\;" />\n<span style="font-family: arial\; font-size: 18px\;">AI doesn&rsquo\;t have to be complicated to be powerful. In this practical session\, Carolyn Cummins shows you how to put AI to work as your behind-the-scenes marketing assistant. Instead of chasing hacks or one-off prompts\, you&rsquo\;ll learn repeatable workflows that help you save time\, reduce stress\, and keep your marketing strategy on track.</span></span></p>\n\n<p style="margin-left: 40px\;"><span style="color:#000000\;"><span style="font-size:18px\;"><span style="font-family:arial\;">Discover how to:<br />\n&bull\; Map out content pillars and campaigns with AI so you never wonder what to post next.<br />\n&bull\; Create a weekly or monthly marketing plan in minutes\, not hours.<br />\n&bull\; Use AI to organize customer insights into clear messaging themes.<br />\n&bull\; Build reusable checklists and templates that simplify marketing tasks.<br />\n&bull\; Streamline your process so you spend more time connecting with clients and less time stuck in the weeds.</span></span></span></p>\n\n<p><span style="color:#000000\;"><span style="font-family: arial\; font-size: 18px\;">You&rsquo\;ll walk away with a simple framework and ready-to-use workflows you can replicate immediately\, making AI part of your business routine in a way that feels easy\, strategic\, and sustainable.</span><br style="font-family: arial\; font-size: 18px\;" />\n<br style="font-family: arial\; font-size: 18px\;" />\n<br style="font-family: arial\; font-size: 18px\;" />\n<strong style="font-family: arial\; font-size: 18px\;">Our normal Marketing Program will resume on June 1&nbsp\;at 1:00 pm at the Chamber.&nbsp\;</strong></span></p>\n
LOCATION:
UID:e.3550.9617
SEQUENCE:3
DTSTAMP:20260425T033628Z
URL:http://georgetownchambertx.chambermaster.com/events/details/marketing-program-may-9617
END:VEVENT

END:VCALENDAR
